BEGIN:VCALENDAR
VERSION:2.0
PRODID:-//Southern Maryland Food Connection - ECPv6.15.20//NONSGML v1.0//EN
CALSCALE:GREGORIAN
METHOD:PUBLISH
X-ORIGINAL-URL:https://somdfoodconnection.org
X-WR-CALDESC:Events for Southern Maryland Food Connection
REFRESH-INTERVAL;VALUE=DURATION:PT1H
X-Robots-Tag:noindex
X-PUBLISHED-TTL:PT1H
BEGIN:VTIMEZONE
TZID:America/New_York
BEGIN:DAYLIGHT
TZOFFSETFROM:-0500
TZOFFSETTO:-0400
TZNAME:EDT
DTSTART:20250309T070000
END:DAYLIGHT
BEGIN:STANDARD
TZOFFSETFROM:-0400
TZOFFSETTO:-0500
TZNAME:EST
DTSTART:20251102T060000
END:STANDARD
BEGIN:DAYLIGHT
TZOFFSETFROM:-0500
TZOFFSETTO:-0400
TZNAME:EDT
DTSTART:20260308T070000
END:DAYLIGHT
BEGIN:STANDARD
TZOFFSETFROM:-0400
TZOFFSETTO:-0500
TZNAME:EST
DTSTART:20261101T060000
END:STANDARD
BEGIN:DAYLIGHT
TZOFFSETFROM:-0500
TZOFFSETTO:-0400
TZNAME:EDT
DTSTART:20270314T070000
END:DAYLIGHT
BEGIN:STANDARD
TZOFFSETFROM:-0400
TZOFFSETTO:-0500
TZNAME:EST
DTSTART:20271107T060000
END:STANDARD
END:VTIMEZONE
BEGIN:VEVENT
DTSTART;TZID=America/New_York:20260425T100000
DTEND;TZID=America/New_York:20260425T130000
DTSTAMP:20260421T062534
CREATED:20250820T195755Z
LAST-MODIFIED:20250820T200552Z
UID:10036855-1777111200-1777122000@somdfoodconnection.org
SUMMARY:Empowerment Christian Ministries
DESCRIPTION:
URL:https://somdfoodconnection.org/event/empowerment-christian-ministries/2026-04-25/
LOCATION:Empowerment Christian Ministries\, 11818 Park Waldorf Lane Suite 516\, Waldorf\, MD\, 20601\, United States
GEO:38.6340189;-76.9006275
X-APPLE-STRUCTURED-LOCATION;VALUE=URI;X-ADDRESS=Empowerment Christian Ministries 11818 Park Waldorf Lane Suite 516 Waldorf MD 20601 United States;X-APPLE-RADIUS=500;X-TITLE=11818 Park Waldorf Lane Suite 516:geo:-76.9006275,38.6340189
END:VEVENT
BEGIN:VEVENT
DTSTART;TZID=America/New_York:20260509T100000
DTEND;TZID=America/New_York:20260509T130000
DTSTAMP:20260421T062534
CREATED:20250820T195918Z
LAST-MODIFIED:20250820T201518Z
UID:10036881-1778320800-1778331600@somdfoodconnection.org
SUMMARY:Empowerment Christian Ministries
DESCRIPTION:
URL:https://somdfoodconnection.org/event/empowerment-christian-ministries-2-2/2026-05-09/
LOCATION:Empowerment Christian Ministries\, 11818 Park Waldorf Lane Suite 516\, Waldorf\, MD\, 20601\, United States
GEO:38.6340189;-76.9006275
X-APPLE-STRUCTURED-LOCATION;VALUE=URI;X-ADDRESS=Empowerment Christian Ministries 11818 Park Waldorf Lane Suite 516 Waldorf MD 20601 United States;X-APPLE-RADIUS=500;X-TITLE=11818 Park Waldorf Lane Suite 516:geo:-76.9006275,38.6340189
END:VEVENT
END:VCALENDAR