BEGIN:VCALENDAR
VERSION:2.0
PRODID:-//Southern Maryland Food Connection - ECPv6.15.20//NONSGML v1.0//EN
CALSCALE:GREGORIAN
METHOD:PUBLISH
X-WR-CALNAME:Southern Maryland Food Connection
X-ORIGINAL-URL:https://somdfoodconnection.org
X-WR-CALDESC:Events for Southern Maryland Food Connection
REFRESH-INTERVAL;VALUE=DURATION:PT1H
X-Robots-Tag:noindex
X-PUBLISHED-TTL:PT1H
BEGIN:VTIMEZONE
TZID:America/New_York
BEGIN:DAYLIGHT
TZOFFSETFROM:-0500
TZOFFSETTO:-0400
TZNAME:EDT
DTSTART:20250309T070000
END:DAYLIGHT
BEGIN:STANDARD
TZOFFSETFROM:-0400
TZOFFSETTO:-0500
TZNAME:EST
DTSTART:20251102T060000
END:STANDARD
BEGIN:DAYLIGHT
TZOFFSETFROM:-0500
TZOFFSETTO:-0400
TZNAME:EDT
DTSTART:20260308T070000
END:DAYLIGHT
BEGIN:STANDARD
TZOFFSETFROM:-0400
TZOFFSETTO:-0500
TZNAME:EST
DTSTART:20261101T060000
END:STANDARD
BEGIN:DAYLIGHT
TZOFFSETFROM:-0500
TZOFFSETTO:-0400
TZNAME:EDT
DTSTART:20270314T070000
END:DAYLIGHT
BEGIN:STANDARD
TZOFFSETFROM:-0400
TZOFFSETTO:-0500
TZNAME:EST
DTSTART:20271107T060000
END:STANDARD
END:VTIMEZONE
BEGIN:VEVENT
DTSTART;TZID=America/New_York:20260411T110000
DTEND;TZID=America/New_York:20260411T130000
DTSTAMP:20260421T060736
CREATED:20250814T204820Z
LAST-MODIFIED:20250814T204820Z
UID:10035917-1775905200-1775912400@somdfoodconnection.org
SUMMARY:Good Fight of Faith Evangelist Ministries\, Inc Food Pantry
DESCRIPTION:
URL:https://somdfoodconnection.org/event/good-fight-of-faith-evangelist-ministries-inc-food-pantry-2/2026-04-11/
LOCATION:Good Fight of Faith Evangelist Ministries\, Inc\, 4470 Southern Business Park Drive #13\, White Plains\, MD\, 20695\, United States
GEO:38.5908594;-76.9491871
X-APPLE-STRUCTURED-LOCATION;VALUE=URI;X-ADDRESS=Good Fight of Faith Evangelist Ministries Inc 4470 Southern Business Park Drive #13 White Plains MD 20695 United States;X-APPLE-RADIUS=500;X-TITLE=4470 Southern Business Park Drive #13:geo:-76.9491871,38.5908594
END:VEVENT
BEGIN:VEVENT
DTSTART;TZID=America/New_York:20260411T100000
DTEND;TZID=America/New_York:20260411T130000
DTSTAMP:20260421T060736
CREATED:20251015T180625Z
LAST-MODIFIED:20251015T180628Z
UID:10036906-1775901600-1775912400@somdfoodconnection.org
SUMMARY:Empowerment Christian Ministries
DESCRIPTION:
URL:https://somdfoodconnection.org/event/empowerment-christian-ministries-2-3/2026-04-11/
LOCATION:Empowerment Christian Ministries\, 11818 Park Waldorf Lane Suite 516\, Waldorf\, MD\, 20601\, United States
GEO:38.6340189;-76.9006275
X-APPLE-STRUCTURED-LOCATION;VALUE=URI;X-ADDRESS=Empowerment Christian Ministries 11818 Park Waldorf Lane Suite 516 Waldorf MD 20601 United States;X-APPLE-RADIUS=500;X-TITLE=11818 Park Waldorf Lane Suite 516:geo:-76.9006275,38.6340189
END:VEVENT
BEGIN:VEVENT
DTSTART;TZID=America/New_York:20260411T100000
DTEND;TZID=America/New_York:20260411T130000
DTSTAMP:20260421T060736
CREATED:20250820T195918Z
LAST-MODIFIED:20250820T201518Z
UID:10036880-1775901600-1775912400@somdfoodconnection.org
SUMMARY:Empowerment Christian Ministries
DESCRIPTION:
URL:https://somdfoodconnection.org/event/empowerment-christian-ministries-2-2/2026-04-11/
LOCATION:Empowerment Christian Ministries\, 11818 Park Waldorf Lane Suite 516\, Waldorf\, MD\, 20601\, United States
GEO:38.6340189;-76.9006275
X-APPLE-STRUCTURED-LOCATION;VALUE=URI;X-ADDRESS=Empowerment Christian Ministries 11818 Park Waldorf Lane Suite 516 Waldorf MD 20601 United States;X-APPLE-RADIUS=500;X-TITLE=11818 Park Waldorf Lane Suite 516:geo:-76.9006275,38.6340189
END:VEVENT
BEGIN:VEVENT
DTSTART;TZID=America/New_York:20260409T120000
DTEND;TZID=America/New_York:20260409T140000
DTSTAMP:20260421T060736
CREATED:20260213T170703Z
LAST-MODIFIED:20260213T170703Z
UID:10038156-1775736000-1775743200@somdfoodconnection.org
SUMMARY:Maryland Food Bank Mobile Market @ Charlotte Hall Library
DESCRIPTION:
URL:https://somdfoodconnection.org/event/maryland-food-bank-mobile-market-charlotte-hall-library/
LOCATION:Charlotte Hall Library\, New Market Road 37600\, Mechanicsville\, MD\, 20659\, United States
GEO:38.4740332;-76.7764548
X-APPLE-STRUCTURED-LOCATION;VALUE=URI;X-ADDRESS=Charlotte Hall Library New Market Road 37600 Mechanicsville MD 20659 United States;X-APPLE-RADIUS=500;X-TITLE=New Market Road 37600:geo:-76.7764548,38.4740332
END:VEVENT
BEGIN:VEVENT
DTSTART;TZID=America/New_York:20260408T163000
DTEND;TZID=America/New_York:20260408T180000
DTSTAMP:20260421T060736
CREATED:20260306T155512Z
LAST-MODIFIED:20260306T170746Z
UID:10038453-1775665800-1775671200@somdfoodconnection.org
SUMMARY:Catholic Charities Southern Maryland Food Bank
DESCRIPTION:Catholic Charities serves take-away meals from their food truck at various locations throughout Southern Maryland every month from March – October.
URL:https://somdfoodconnection.org/event/meals-and-hope-in-his-service-community-ministry-8/
LOCATION:Pisgah United Methodist Church\, 7020 Poorhouse Road\, Indian Head\, MD\, 20640\, United States
GEO:38.541345;-77.133902
X-APPLE-STRUCTURED-LOCATION;VALUE=URI;X-ADDRESS=Pisgah United Methodist Church 7020 Poorhouse Road Indian Head MD 20640 United States;X-APPLE-RADIUS=500;X-TITLE=7020 Poorhouse Road:geo:-77.133902,38.541345
END:VEVENT
BEGIN:VEVENT
DTSTART;TZID=America/New_York:20260408T163000
DTEND;TZID=America/New_York:20260408T180000
DTSTAMP:20260421T060736
CREATED:20260306T155423Z
LAST-MODIFIED:20260306T170757Z
UID:10038454-1775665800-1775671200@somdfoodconnection.org
SUMMARY:Catholic Charities Southern Maryland Food Bank
DESCRIPTION:Catholic Charities serves take-away meals from their food truck at various locations throughout Southern Maryland every month from March – October.
URL:https://somdfoodconnection.org/event/meals-and-hope-in-his-service-community-ministry-7/
LOCATION:Pisgah United Methodist Church\, 7020 Poorhouse Road\, Indian Head\, MD\, 20640\, United States
GEO:38.541345;-77.133902
X-APPLE-STRUCTURED-LOCATION;VALUE=URI;X-ADDRESS=Pisgah United Methodist Church 7020 Poorhouse Road Indian Head MD 20640 United States;X-APPLE-RADIUS=500;X-TITLE=7020 Poorhouse Road:geo:-77.133902,38.541345
END:VEVENT
BEGIN:VEVENT
DTSTART;TZID=America/New_York:20260403T120000
DTEND;TZID=America/New_York:20260403T140000
DTSTAMP:20260421T060736
CREATED:20260309T135236Z
LAST-MODIFIED:20260309T135236Z
UID:10038491-1775217600-1775224800@somdfoodconnection.org
SUMMARY:Maryland Food Bank Mobile Market @ Newburg Volunteer Fire Department
DESCRIPTION:The Maryland Food Bank’s MOBILE MARKET is visiting! We’re inviting ALL to receive healthy foods and resources. Join us for a FULL SHOPPING EXPERIENCE! (While Food Supplies Last)  APR 2026 Newburg VFD Flyer
URL:https://somdfoodconnection.org/event/maryland-food-bank-mobile-market-newburg-volunteer-fire-department-4/
LOCATION:Newburg Volunteer Fire Department\, Rock Point Road\, Newburg\, MD\, 20664\, United States
GEO:38.375984;-76.954094
X-APPLE-STRUCTURED-LOCATION;VALUE=URI;X-ADDRESS=Newburg Volunteer Fire Department Rock Point Road Newburg MD 20664 United States;X-APPLE-RADIUS=500;X-TITLE=Rock Point Road:geo:-76.954094,38.375984
END:VEVENT
BEGIN:VEVENT
DTSTART;TZID=America/New_York:20260401T160000
DTEND;TZID=America/New_York:20260401T170000
DTSTAMP:20260421T060736
CREATED:20260306T154602Z
LAST-MODIFIED:20260306T170810Z
UID:10038452-1775059200-1775062800@somdfoodconnection.org
SUMMARY:Catholic Charities Southern Maryland Food Bank
DESCRIPTION:Catholic Charities serves take-away meals from their food truck at various locations throughout Southern Maryland every month from March – October.
URL:https://somdfoodconnection.org/event/meals-and-hope-in-his-service-community-ministry-6/
LOCATION:Christ Episcopal Church Durham Parish – Joe’s Place\, 8700 Ironsides Road\, Nanjemoy\, MD\, 20662\, United States
GEO:38.472881;-77.155853
X-APPLE-STRUCTURED-LOCATION;VALUE=URI;X-ADDRESS=Christ Episcopal Church Durham Parish – Joe’s Place 8700 Ironsides Road Nanjemoy MD 20662 United States;X-APPLE-RADIUS=500;X-TITLE=8700 Ironsides Road:geo:-77.155853,38.472881
END:VEVENT
BEGIN:VEVENT
DTSTART;TZID=America/New_York:20260328T110000
DTEND;TZID=America/New_York:20260328T130000
DTSTAMP:20260421T060736
CREATED:20250812T205812Z
LAST-MODIFIED:20250814T211002Z
UID:10035886-1774695600-1774702800@somdfoodconnection.org
SUMMARY:Good Fight of Faith Evangelist Ministries\, Inc Food Pantry
DESCRIPTION:The Food Pantry is open the 2nd and 4th Saturday of the month January-October 11pm-1pm. \n  \n 
URL:https://somdfoodconnection.org/event/good-fight-of-faith-evangelist-ministries-inc-food-pantry-3/2026-03-28/
LOCATION:Good Fight of Faith Evangelist Ministries\, Inc\, 4470 Southern Business Park Drive #13\, White Plains\, MD\, 20695\, United States
GEO:38.5908594;-76.9491871
X-APPLE-STRUCTURED-LOCATION;VALUE=URI;X-ADDRESS=Good Fight of Faith Evangelist Ministries Inc 4470 Southern Business Park Drive #13 White Plains MD 20695 United States;X-APPLE-RADIUS=500;X-TITLE=4470 Southern Business Park Drive #13:geo:-76.9491871,38.5908594
END:VEVENT
BEGIN:VEVENT
DTSTART;TZID=America/New_York:20260326T120000
DTEND;TZID=America/New_York:20260326T140000
DTSTAMP:20260421T060736
CREATED:20260213T170754Z
LAST-MODIFIED:20260213T170755Z
UID:10038154-1774526400-1774533600@somdfoodconnection.org
SUMMARY:Maryland Food Bank Mobile Market @ Charles County DSS
DESCRIPTION:MAR 2026 Charles County DSS Flyer
URL:https://somdfoodconnection.org/event/maryland-food-bank-mobile-market-charles-county-dss-3/
LOCATION:Charles County Department of Social Services\, 200 Kent Avenue\, La Plata\, MD\, 20646\, United States
GEO:38.5315932;-76.9741173
X-APPLE-STRUCTURED-LOCATION;VALUE=URI;X-ADDRESS=Charles County Department of Social Services 200 Kent Avenue La Plata MD 20646 United States;X-APPLE-RADIUS=500;X-TITLE=200 Kent Avenue:geo:-76.9741173,38.5315932
END:VEVENT
BEGIN:VEVENT
DTSTART;TZID=America/New_York:20260325T160000
DTEND;TZID=America/New_York:20260325T170000
DTSTAMP:20260421T060736
CREATED:20260306T153308Z
LAST-MODIFIED:20260306T170826Z
UID:10038450-1774454400-1774458000@somdfoodconnection.org
SUMMARY:Catholic Charities Southern Maryland Food Bank
DESCRIPTION:Catholic Charities serves take-away meals from their food truck at various locations throughout Southern Maryland every month from March – October.
URL:https://somdfoodconnection.org/event/meals-and-hope-in-his-service-community-ministry-4/
LOCATION:St. Mary’s Parish Hall\, 11555 St. Mary's Church Road\, Charlotte Hall\, MD\, 20622\, United States
GEO:38.4337524;-76.9096112
X-APPLE-STRUCTURED-LOCATION;VALUE=URI;X-ADDRESS=St. Mary’s Parish Hall 11555 St. Mary's Church Road Charlotte Hall MD 20622 United States;X-APPLE-RADIUS=500;X-TITLE=11555 St. Mary's Church Road:geo:-76.9096112,38.4337524
END:VEVENT
END:VCALENDAR